BEGIN:VCALENDAR
VERSION:2.0
PRODID:-//Get Permission Institute - ECPv6.9.0//NONSGML v1.0//EN
CALSCALE:GREGORIAN
METHOD:PUBLISH
X-ORIGINAL-URL:https://getpermissioninstitute.com
X-WR-CALDESC:Events for Get Permission Institute
REFRESH-INTERVAL;VALUE=DURATION:PT1H
X-Robots-Tag:noindex
X-PUBLISHED-TTL:PT1H
BEGIN:VTIMEZONE
TZID:UTC
BEGIN:STANDARD
TZOFFSETFROM:+0000
TZOFFSETTO:+0000
TZNAME:UTC
DTSTART:20210101T000000
END:STANDARD
END:VTIMEZONE
BEGIN:VEVENT
DTSTART;VALUE=DATE:20210910
DTEND;VALUE=DATE:20210912
DTSTAMP:20260422T143437
CREATED:20210422T013059Z
LAST-MODIFIED:20210616T075334Z
UID:1528-1631232000-1631404799@getpermissioninstitute.com
SUMMARY:Live In-Person Course
DESCRIPTION:Presenter:  Marsha Dunn Klein \nCourse:  Get Permission Approach to Anxious Eaters\, Anxious Mealtimes
URL:https://getpermissioninstitute.com/event/live-in-person-course/
CATEGORIES:In-Person Workshops
END:VEVENT
END:VCALENDAR